BEGIN:VCALENDAR
VERSION:2.0
PRODID:-//fadelweb - ECPv6.15.20//NONSGML v1.0//EN
CALSCALE:GREGORIAN
METHOD:PUBLISH
X-WR-CALNAME:fadelweb
X-ORIGINAL-URL:https://fadelweb.uncoma.edu.ar
X-WR-CALDESC:Eventos para fadelweb
REFRESH-INTERVAL;VALUE=DURATION:PT1H
X-Robots-Tag:noindex
X-PUBLISHED-TTL:PT1H
BEGIN:VTIMEZONE
TZID:America/Argentina/Buenos_Aires
BEGIN:STANDARD
TZOFFSETFROM:-0300
TZOFFSETTO:-0300
TZNAME:-03
DTSTART:20240101T000000
END:STANDARD
END:VTIMEZONE
BEGIN:VEVENT
DTSTART;TZID=America/Argentina/Buenos_Aires:20250217T080000
DTEND;TZID=America/Argentina/Buenos_Aires:20250221T150000
DTSTAMP:20260423T143222
CREATED:20250210T110815Z
LAST-MODIFIED:20250210T122855Z
UID:18329-1739779200-1740150000@fadelweb.uncoma.edu.ar
SUMMARY:1º Llamado EXAMEN Febrero Marzo 2025
DESCRIPTION:• • •【𝗦𝗲𝗰𝗿𝗲𝘁𝗮𝗿𝗶́𝗮 𝗔𝗰𝗮𝗱𝗲́𝗺𝗶𝗰𝗮】 • • • \n📢 Compartimos con ustedes las fechas del primer llamado de TURNOS de EXAMEN- Calendario Académico (Res. C.D 238/2024) 📢\n.\n.\n.\n| 📝📋📅 |
URL:https://fadelweb.uncoma.edu.ar/evento/1o-llamado-examen-febrero-marzo-2025/
CATEGORIES:Estudiantes
ATTACH;FMTTYPE=image/png:https://fadelweb.uncoma.edu.ar/wp-content/uploads/2025/02/8.png
END:VEVENT
END:VCALENDAR