BEGIN:VCALENDAR
VERSION:2.0
PRODID:-//fadelweb - ECPv6.15.20//NONSGML v1.0//EN
CALSCALE:GREGORIAN
METHOD:PUBLISH
X-WR-CALNAME:fadelweb
X-ORIGINAL-URL:https://fadelweb.uncoma.edu.ar
X-WR-CALDESC:Eventos para fadelweb
REFRESH-INTERVAL;VALUE=DURATION:PT1H
X-Robots-Tag:noindex
X-PUBLISHED-TTL:PT1H
BEGIN:VTIMEZONE
TZID:America/Argentina/Buenos_Aires
BEGIN:STANDARD
TZOFFSETFROM:-0300
TZOFFSETTO:-0300
TZNAME:-03
DTSTART:20230101T000000
END:STANDARD
END:VTIMEZONE
BEGIN:VEVENT
DTSTART;TZID=America/Argentina/Buenos_Aires:20241122T120000
DTEND;TZID=America/Argentina/Buenos_Aires:20241122T170000
DTSTAMP:20260422T104919
CREATED:20241114T121121Z
LAST-MODIFIED:20241114T121138Z
UID:17842-1732276800-1732294800@fadelweb.uncoma.edu.ar
SUMMARY:Jornada Recreativa de Fin de Año
DESCRIPTION:Invitamos a toda la comunidad FADEL (docentes\, estudiantes\, nodocentes\, graduados/as) a compartir una increíble jornada recreativa para despedir el año y celebrar el final de la cursada 🎊 🥳 🎉 \n📢 El próximo viernes 22 de noviembre a partir de las 12.00 horas ⏰\, en distintos lugares de nuestro predio podrán encontrar actividades y propuestas de las más diversas\, por lo que esperamos contar con la participación de toda nuestra comunidad FADEL. \nNos van a acompañar profesores e instructores en actividades puntuales… entre las que podrán encontrar: \n♟️ Ajedrez\n💃🏻 Baile urbano 🕺🏻\n🤸🏻 Slackline\n✨ Danza aérea (telas acrobáticas)\n⚽ Fútbol\n🏐 Voley\n🧉 Truco\n🏓 Tenis de mesa\n🎼 Karaoke 🎤 \n🫂 Si tienen equipo (están invitados todos a participar\, docentes\, no docentes y estudiantes) pueden anotarse\, y si logramos contar con varios equipos se realizará un torneo por disciplina. Si no\, haremos partidos recreativos. 🌈☀️ \nPara futbol y voley\, se pueden inscribir a través de este enlace: https://forms.gle/9sPEx5neWBkDE2tf6 \nRecuerden traer algo rico para compartir el almuerzo y pasar una linda jornada!🧁🥐🧉 \n  \n🎉¡Los/las esperamos!🎉
URL:https://fadelweb.uncoma.edu.ar/evento/jornada-recreativa-de-fin-de-cursada/
LOCATION:Facultad de Lenguas (FaDeL)\, Mendoza 2151\, General Roca\, Río Negro\, 8332\, Argentina
CATEGORIES:Actividad de Bienestar,Estudiantes
ATTACH;FMTTYPE=image/png:https://fadelweb.uncoma.edu.ar/wp-content/uploads/2024/11/portada-jornada.png
END:VEVENT
END:VCALENDAR