BEGIN:VCALENDAR
VERSION:2.0
PRODID:-//fadelweb - ECPv6.15.20//NONSGML v1.0//EN
CALSCALE:GREGORIAN
METHOD:PUBLISH
X-ORIGINAL-URL:https://fadelweb.uncoma.edu.ar
X-WR-CALDESC:Eventos para fadelweb
REFRESH-INTERVAL;VALUE=DURATION:PT1H
X-Robots-Tag:noindex
X-PUBLISHED-TTL:PT1H
BEGIN:VTIMEZONE
TZID:America/Argentina/Buenos_Aires
BEGIN:STANDARD
TZOFFSETFROM:-0300
TZOFFSETTO:-0300
TZNAME:-03
DTSTART:20230101T000000
END:STANDARD
END:VTIMEZONE
BEGIN:VEVENT
DTSTART;TZID=America/Argentina/Buenos_Aires:20241115T170000
DTEND;TZID=America/Argentina/Buenos_Aires:20241115T190000
DTSTAMP:20260423T143258
CREATED:20241114T153619Z
LAST-MODIFIED:20241114T153652Z
UID:17857-1731690000-1731697200@fadelweb.uncoma.edu.ar
SUMMARY:Clases de Apoyo en PLAZA ACTIVA
DESCRIPTION:Cerramos el año con muchas actividades				\n				\n					\n		\n					\n		\n				\n						\n					\n			\n						\n				\n									MIÉRCOLES 19 DE NOVIEMBRE de 10.00 a 15.00								\n				\n					\n		\n					\n		\n				\n						\n					\n			\n						\n				\n									Para celebrar el cierre de este 2025\, te invitamos a participar de la fiesta de fin de año. Vamos a estar compartiendo una jornada llena de actividades junto a estudiantes de la Universidad Nacional de Río Negro. 								\n				\n					\n		\n					\n		\n				\n						\n					\n			\n						\n				\n									Vas a poder participar de: 🏆 Un torneo de truco\, a cargo del Centro de Estudiantes de la Facultad de Lenguas⚽ Fútbol🏐 Volley🤸🏽 Telas♟ Ajedrez🕺🏽Baile Urbano🎤 Karaoke 								\n				\n					\n		\n					\n		\n				\n						\n					\n			\n						\n				\n									¡No te pierdas esta hermosa jornada!
URL:https://fadelweb.uncoma.edu.ar/evento/clases-de-apoyo-en-plaza-activa/
LOCATION:Plaza San Martín\, General Roca
CATEGORIES:Actividades en Defensa de la Educación Pública
ATTACH;FMTTYPE=image/png:https://fadelweb.uncoma.edu.ar/wp-content/uploads/2024/11/2.png
END:VEVENT
BEGIN:VEVENT
DTSTART;TZID=America/Argentina/Buenos_Aires:20241115T170000
DTEND;TZID=America/Argentina/Buenos_Aires:20241115T213000
DTSTAMP:20260423T143258
CREATED:20241114T151403Z
LAST-MODIFIED:20241114T153709Z
UID:17852-1731690000-1731706200@fadelweb.uncoma.edu.ar
SUMMARY:Plaza Activa-En Defensa de la Educación Pública
DESCRIPTION:Cerramos el año con muchas actividades				\n				\n					\n		\n					\n		\n				\n						\n					\n			\n						\n				\n									MIÉRCOLES 19 DE NOVIEMBRE de 10.00 a 15.00								\n				\n					\n		\n					\n		\n				\n						\n					\n			\n						\n				\n									Para celebrar el cierre de este 2025\, te invitamos a participar de la fiesta de fin de año. Vamos a estar compartiendo una jornada llena de actividades junto a estudiantes de la Universidad Nacional de Río Negro. 								\n				\n					\n		\n					\n		\n				\n						\n					\n			\n						\n				\n									Vas a poder participar de: 🏆 Un torneo de truco\, a cargo del Centro de Estudiantes de la Facultad de Lenguas⚽ Fútbol🏐 Volley🤸🏽 Telas♟ Ajedrez🕺🏽Baile Urbano🎤 Karaoke 								\n				\n					\n		\n					\n		\n				\n						\n					\n			\n						\n				\n									¡No te pierdas esta hermosa jornada!
URL:https://fadelweb.uncoma.edu.ar/evento/plaza-activa-en-defensa-de-la-educacion-publica/
LOCATION:Plaza San Martín\, General Roca
ATTACH;FMTTYPE=image/jpeg:https://fadelweb.uncoma.edu.ar/wp-content/uploads/2024/11/Plaza-Activa-jopog.jpg
END:VEVENT
END:VCALENDAR