BEGIN:VCALENDAR
VERSION:2.0
PRODID:-//fadelweb - ECPv6.15.20//NONSGML v1.0//EN
CALSCALE:GREGORIAN
METHOD:PUBLISH
X-WR-CALNAME:fadelweb
X-ORIGINAL-URL:https://fadelweb.uncoma.edu.ar
X-WR-CALDESC:Eventos para fadelweb
REFRESH-INTERVAL;VALUE=DURATION:PT1H
X-Robots-Tag:noindex
X-PUBLISHED-TTL:PT1H
BEGIN:VTIMEZONE
TZID:America/Argentina/Buenos_Aires
BEGIN:STANDARD
TZOFFSETFROM:-0300
TZOFFSETTO:-0300
TZNAME:-03
DTSTART:20240101T000000
END:STANDARD
END:VTIMEZONE
BEGIN:VEVENT
DTSTART;TZID=America/Argentina/Buenos_Aires:20250821T180000
DTEND;TZID=America/Argentina/Buenos_Aires:20250918T210000
DTSTAMP:20260420T150823
CREATED:20250728T151531Z
LAST-MODIFIED:20250728T154210Z
UID:20241-1755799200-1758229200@fadelweb.uncoma.edu.ar
SUMMARY:Seminario de Posgrado: Sociolingüística
DESCRIPTION:Cerramos el año con muchas actividades				\n				\n					\n		\n					\n		\n				\n						\n					\n			\n						\n				\n									MIÉRCOLES 19 DE NOVIEMBRE de 10.00 a 15.00								\n				\n					\n		\n					\n		\n				\n						\n					\n			\n						\n				\n									Para celebrar el cierre de este 2025\, te invitamos a participar de la fiesta de fin de año. Vamos a estar compartiendo una jornada llena de actividades junto a estudiantes de la Universidad Nacional de Río Negro. 								\n				\n					\n		\n					\n		\n				\n						\n					\n			\n						\n				\n									Vas a poder participar de: 🏆 Un torneo de truco\, a cargo del Centro de Estudiantes de la Facultad de Lenguas⚽ Fútbol🏐 Volley🤸🏽 Telas♟ Ajedrez🕺🏽Baile Urbano🎤 Karaoke 								\n				\n					\n		\n					\n		\n				\n						\n					\n			\n						\n				\n									¡No te pierdas esta hermosa jornada!
URL:https://fadelweb.uncoma.edu.ar/evento/seminario-de-posgrado-sociolinguistica/
LOCATION:Facultad de Lenguas (FaDeL)\, Mendoza 2151\, General Roca\, Río Negro\, 8332\, Argentina
CATEGORIES:Seminario de Posgrado
ATTACH;FMTTYPE=image/png:https://fadelweb.uncoma.edu.ar/wp-content/uploads/2025/07/8.png
END:VEVENT
BEGIN:VEVENT
DTSTART;TZID=America/Argentina/Buenos_Aires:20250823T090000
DTEND;TZID=America/Argentina/Buenos_Aires:20250830T230000
DTSTAMP:20260420T150824
CREATED:20250806T121240Z
LAST-MODIFIED:20250806T121240Z
UID:20418-1755939600-1756594800@fadelweb.uncoma.edu.ar
SUMMARY:Taller de Traducción de Poesía Poscolonial en Lengua Inglesa
DESCRIPTION:Cerramos el año con muchas actividades				\n				\n					\n		\n					\n		\n				\n						\n					\n			\n						\n				\n									MIÉRCOLES 19 DE NOVIEMBRE de 10.00 a 15.00								\n				\n					\n		\n					\n		\n				\n						\n					\n			\n						\n				\n									Para celebrar el cierre de este 2025\, te invitamos a participar de la fiesta de fin de año. Vamos a estar compartiendo una jornada llena de actividades junto a estudiantes de la Universidad Nacional de Río Negro. 								\n				\n					\n		\n					\n		\n				\n						\n					\n			\n						\n				\n									Vas a poder participar de: 🏆 Un torneo de truco\, a cargo del Centro de Estudiantes de la Facultad de Lenguas⚽ Fútbol🏐 Volley🤸🏽 Telas♟ Ajedrez🕺🏽Baile Urbano🎤 Karaoke 								\n				\n					\n		\n					\n		\n				\n						\n					\n			\n						\n				\n									¡No te pierdas esta hermosa jornada!
URL:https://fadelweb.uncoma.edu.ar/evento/taller-de-traduccion-de-poesia-poscolonial-en-lengua-inglesa/
LOCATION:Facultad de Lenguas (FaDeL)\, Mendoza 2151\, General Roca\, Río Negro\, 8332\, Argentina
CATEGORIES:Capacitaciones y Actividades de Transferencia
ATTACH;FMTTYPE=image/jpeg:https://fadelweb.uncoma.edu.ar/wp-content/uploads/2025/08/flyer-taller-agosto-andy_page-0001.jpg
END:VEVENT
BEGIN:VEVENT
DTSTART;TZID=America/Argentina/Buenos_Aires:20250825T090000
DTEND;TZID=America/Argentina/Buenos_Aires:20250828T140000
DTSTAMP:20260420T150824
CREATED:20250819T154504Z
LAST-MODIFIED:20250819T154812Z
UID:20540-1756112400-1756389600@fadelweb.uncoma.edu.ar
SUMMARY:Jornada Binacional – en cooperación con la Universidad Nacional Autónoma de Honduras
DESCRIPTION:Cerramos el año con muchas actividades				\n				\n					\n		\n					\n		\n				\n						\n					\n			\n						\n				\n									MIÉRCOLES 19 DE NOVIEMBRE de 10.00 a 15.00								\n				\n					\n		\n					\n		\n				\n						\n					\n			\n						\n				\n									Para celebrar el cierre de este 2025\, te invitamos a participar de la fiesta de fin de año. Vamos a estar compartiendo una jornada llena de actividades junto a estudiantes de la Universidad Nacional de Río Negro. 								\n				\n					\n		\n					\n		\n				\n						\n					\n			\n						\n				\n									Vas a poder participar de: 🏆 Un torneo de truco\, a cargo del Centro de Estudiantes de la Facultad de Lenguas⚽ Fútbol🏐 Volley🤸🏽 Telas♟ Ajedrez🕺🏽Baile Urbano🎤 Karaoke 								\n				\n					\n		\n					\n		\n				\n						\n					\n			\n						\n				\n									¡No te pierdas esta hermosa jornada!
URL:https://fadelweb.uncoma.edu.ar/evento/jornada-binacional-en-cooperacion-con-la-universidad-nacional-autonoma-de-honduras/
LOCATION:Facultad de Lenguas (FaDeL)\, Mendoza 2151\, General Roca\, Río Negro\, 8332\, Argentina
CATEGORIES:Académica,Actividad de Extensión,Investigación
ATTACH;FMTTYPE=image/png:https://fadelweb.uncoma.edu.ar/wp-content/uploads/2025/08/1.png
END:VEVENT
END:VCALENDAR