BEGIN:VCALENDAR
VERSION:2.0
PRODID:-//fadelweb - ECPv6.15.20//NONSGML v1.0//EN
CALSCALE:GREGORIAN
METHOD:PUBLISH
X-WR-CALNAME:fadelweb
X-ORIGINAL-URL:https://fadelweb.uncoma.edu.ar
X-WR-CALDESC:Eventos para fadelweb
REFRESH-INTERVAL;VALUE=DURATION:PT1H
X-Robots-Tag:noindex
X-PUBLISHED-TTL:PT1H
BEGIN:VTIMEZONE
TZID:America/Argentina/Buenos_Aires
BEGIN:STANDARD
TZOFFSETFROM:-0300
TZOFFSETTO:-0300
TZNAME:-03
DTSTART:20240101T000000
END:STANDARD
END:VTIMEZONE
BEGIN:VEVENT
DTSTART;TZID=America/Argentina/Buenos_Aires:20250821T183000
DTEND;TZID=America/Argentina/Buenos_Aires:20250821T200000
DTSTAMP:20260423T072306
CREATED:20250821T144836Z
LAST-MODIFIED:20250821T145254Z
UID:20567-1755801000-1755806400@fadelweb.uncoma.edu.ar
SUMMARY:𝐂𝐇𝐀𝐑𝐋𝐀 "𝑬𝒍 𝒓𝒐𝒍 𝒅𝒆𝒍 𝒕𝒓𝒂𝒅𝒖𝒄𝒕𝒐𝒓 𝒆𝒏 𝒆𝒍 𝒂𝒓𝒃𝒊𝒕𝒓𝒂𝒋𝒆 𝒊𝒏𝒕𝒆𝒓𝒏𝒂𝒄𝒊𝒐𝒏𝒂𝒍 𝒅𝒆 𝒊𝒏𝒗𝒆𝒓𝒔𝒊𝒐𝒏𝒆𝒔
DESCRIPTION:『• • • 𝗔𝗰𝘁𝗶𝘃𝗶𝗱𝗮𝗱𝗲𝘀 𝗱𝗲 𝗰𝗮́𝘁𝗲𝗱𝗿𝗮 • • •』 ATENCIÓN Estudiantes 𝐂𝐇𝐀𝐑𝐋𝐀:| «𝑬𝒍 𝒓𝒐𝒍 𝒅𝒆𝒍 𝒕𝒓𝒂𝒅𝒖𝒄𝒕𝒐𝒓 𝒆𝒏 𝒆𝒍 𝒂𝒓𝒃𝒊𝒕𝒓𝒂𝒋𝒆 𝒊𝒏𝒕𝒆𝒓𝒏𝒂𝒄𝒊𝒐𝒏𝒂𝒍 𝒅𝒆 𝒊𝒏𝒗𝒆𝒓𝒔𝒊𝒐𝒏𝒆𝒔» | En un mundo globalizado\, el arbitraje internacional de inversiones ocupa un lugar central en la resolución de controversias entre Estados e inversores extranjeros. En esta charla gratuita te contaremos cuál es el rol del traductor en estos procesos y por qué representa una oportunidad profesional con demanda constante. Agendá esta fecha JUEVES 21 de agosto 18:30 Modalidad VIRTUAL por ZOOM ZOOM: https://shorturl.at/xbj3Q GRATUITA Inscripción: https://shorturl.at/PJIaho escaneando el QR de la imagenSe entregan certificados de asistencia. Organiza: Cátedras de Traducción Jurídica del Traductorado Público en Inglés Info y consultas:secretaria.extension@fadel.uncoma.edu.ar¡Te esperamos!...
URL:https://fadelweb.uncoma.edu.ar/evento/%f0%9d%90%82%f0%9d%90%87%f0%9d%90%80%f0%9d%90%91%f0%9d%90%8b%f0%9d%90%80-%f0%9d%91%ac%f0%9d%92%8d-%f0%9d%92%93%f0%9d%92%90%f0%9d%92%8d-%f0%9d%92%85%f0%9d%92%86%f0%9d%92%8d-%f0%9d%92%95%f0%9d%92%93/
LOCATION:Facultad de Lenguas (FaDeL)\, Mendoza 2151\, General Roca\, Río Negro\, 8332\, Argentina
CATEGORIES:Académica,Actividades de Cátedra,Estudiantes
ATTACH;FMTTYPE=image/jpeg:https://fadelweb.uncoma.edu.ar/wp-content/uploads/2025/08/rol-del-traductor.jpg
END:VEVENT
END:VCALENDAR