BEGIN:VCALENDAR
VERSION:2.0
PRODID:-//fadelweb - ECPv6.15.20//NONSGML v1.0//EN
CALSCALE:GREGORIAN
METHOD:PUBLISH
X-WR-CALNAME:fadelweb
X-ORIGINAL-URL:https://fadelweb.uncoma.edu.ar
X-WR-CALDESC:Eventos para fadelweb
REFRESH-INTERVAL;VALUE=DURATION:PT1H
X-Robots-Tag:noindex
X-PUBLISHED-TTL:PT1H
BEGIN:VTIMEZONE
TZID:America/Argentina/Buenos_Aires
BEGIN:STANDARD
TZOFFSETFROM:-0300
TZOFFSETTO:-0300
TZNAME:-03
DTSTART:20230101T000000
END:STANDARD
END:VTIMEZONE
BEGIN:VEVENT
DTSTART;TZID=America/Argentina/Buenos_Aires:20241023T093000
DTEND;TZID=America/Argentina/Buenos_Aires:20241023T130000
DTSTAMP:20260423T114545
CREATED:20240816T172956Z
LAST-MODIFIED:20240917T161855Z
UID:17477-1729675800-1729688400@fadelweb.uncoma.edu.ar
SUMMARY:FADEL WORLD SHOWCASE 2024
DESCRIPTION:Cerramos el año con muchas actividades				\n				\n					\n		\n					\n		\n				\n						\n					\n			\n						\n				\n									MIÉRCOLES 19 DE NOVIEMBRE de 10.00 a 15.00								\n				\n					\n		\n					\n		\n				\n						\n					\n			\n						\n				\n									Para celebrar el cierre de este 2025\, te invitamos a participar de la fiesta de fin de año. Vamos a estar compartiendo una jornada llena de actividades junto a estudiantes de la Universidad Nacional de Río Negro. 								\n				\n					\n		\n					\n		\n				\n						\n					\n			\n						\n				\n									Vas a poder participar de: 🏆 Un torneo de truco\, a cargo del Centro de Estudiantes de la Facultad de Lenguas⚽ Fútbol🏐 Volley🤸🏽 Telas♟ Ajedrez🕺🏽Baile Urbano🎤 Karaoke 								\n				\n					\n		\n					\n		\n				\n						\n					\n			\n						\n				\n									¡No te pierdas esta hermosa jornada!
URL:https://fadelweb.uncoma.edu.ar/evento/fadel-world-showcase-2024/
LOCATION:Facultad de Lenguas (FaDeL)\, Mendoza 2151\, General Roca\, Río Negro\, 8332\, Argentina
CATEGORIES:Actividad de Extensión,Estudiantes
ATTACH;FMTTYPE=image/jpeg:https://fadelweb.uncoma.edu.ar/wp-content/uploads/2024/08/Showcase-24-1.jpg
END:VEVENT
END:VCALENDAR